BEGIN:VCALENDAR
VERSION:2.0
PRODID:-//KAMMERMUSIKVEREIN - ECPv6.5.0//NONSGML v1.0//EN
CALSCALE:GREGORIAN
METHOD:PUBLISH
X-ORIGINAL-URL:https://kammermusikverein.at
X-WR-CALDESC:Veranstaltungen für KAMMERMUSIKVEREIN
REFRESH-INTERVAL;VALUE=DURATION:PT1H
X-Robots-Tag:noindex
X-PUBLISHED-TTL:PT1H
BEGIN:VTIMEZONE
TZID:Europe/Berlin
BEGIN:DAYLIGHT
TZOFFSETFROM:+0100
TZOFFSETTO:+0200
TZNAME:CEST
DTSTART:20260329T010000
END:DAYLIGHT
BEGIN:STANDARD
TZOFFSETFROM:+0200
TZOFFSETTO:+0100
TZNAME:CET
DTSTART:20261025T010000
END:STANDARD
END:VTIMEZONE
BEGIN:VEVENT
DTSTART;VALUE=DATE:20260705
DTEND;VALUE=DATE:20260726
DTSTAMP:20260422T175814
CREATED:20251125T191950Z
LAST-MODIFIED:20260207T140704Z
UID:1024-1783209600-1785023999@kammermusikverein.at
SUMMARY:Musikwoche Grünbach 2026
DESCRIPTION:Drei Kurswochen (einzeln oder gemeinsam buchbar): \n\n1. Kurswoche: 5. – 11. Juli 2026\nVioline\, Viola\, Violoncello\, Klavier\, Gesang \n2. Kurswoche: 12. – 18. Juli 2026\nVioline\, Viola\, Violoncello\, Klavier\, Gesang \n3. Kurswoche: 19. – 25. Juli 2026\nVioline\, Viola\, Violoncello\, Klavier\, Gesang \n\nFür Details zum Kurs besuchen Sie bitte unsere Website:\nhttps://www.musikwoche-gruenbach.at \nOder sehen Sie sich den Folder Musikwoch Grünbach 2026 an. \nWir freuen uns auf Ihre Teilnahme!
URL:https://kammermusikverein.at/event/musikwoche-gruenbach-2026/
LOCATION:Musikschule Grünbach\, Schulgasse 12\, Grünbach am Schneeberg\, Niederösterreich\, 2733\, Österreich
CATEGORIES:Musikwoche Grünbach
ATTACH;FMTTYPE=image/jpeg:https://kammermusikverein.at/wp-content/uploads/2025/11/A4-MW-Gruenbach-2026.jpg
ORGANIZER;CN="Kammermusikverein Nieder%C3%B6sterreich/Musikwoche Gr%C3%BCnbach":MAILTO:kontakt@musikwoche-gruenbach.at
END:VEVENT
END:VCALENDAR